Package: methylInheritance Version: 1.32.1 Command: /Library/Frameworks/R.framework/Resources/bin/R CMD INSTALL methylInheritance StartedAt: 2025-10-13 15:52:43 -0400 (Mon, 13 Oct 2025) EndedAt: 2025-10-13 15:54:00 -0400 (Mon, 13 Oct 2025) EllapsedTime: 77.3 seconds RetCode: 0 Status: OK