Package: methylInheritance Version: 1.32.1 Command: /Library/Frameworks/R.framework/Resources/bin/R CMD build --keep-empty-dirs --no-resave-data methylInheritance StartedAt: 2025-10-13 20:26:22 -0400 (Mon, 13 Oct 2025) EndedAt: 2025-10-13 20:29:20 -0400 (Mon, 13 Oct 2025) EllapsedTime: 177.7 seconds RetCode: 0 Status: OK PackageFile: methylInheritance_1.32.1.tar.gz PackageFileSize: 1.708 MiB