Package: methylInheritance Version: 1.31.0 Command: /Library/Frameworks/R.framework/Resources/bin/R CMD check --install=check:methylInheritance.install-out.txt --library=/Library/Frameworks/R.framework/Resources/library --no-vignettes --timings methylInheritance_1.31.0.tar.gz StartedAt: 2025-02-20 21:32:05 -0500 (Thu, 20 Feb 2025) EndedAt: 2025-02-20 21:41:24 -0500 (Thu, 20 Feb 2025) EllapsedTime: 558.8 seconds RetCode: 0 Status: OK CheckDir: methylInheritance.Rcheck Warnings: 0