Package: methylInheritance Version: 1.31.0 Command: /Library/Frameworks/R.framework/Resources/bin/R CMD build --keep-empty-dirs --no-resave-data methylInheritance StartedAt: 2025-02-20 17:17:22 -0500 (Thu, 20 Feb 2025) EndedAt: 2025-02-20 17:18:45 -0500 (Thu, 20 Feb 2025) EllapsedTime: 83.3 seconds RetCode: 0 Status: OK PackageFile: methylInheritance_1.31.0.tar.gz PackageFileSize: 1.708 MiB