Package: methylInheritance Version: 1.32.1 Command: /Library/Frameworks/R.framework/Resources/bin/R CMD INSTALL methylInheritance StartedAt: 2025-10-13 16:44:26 -0400 (Mon, 13 Oct 2025) EndedAt: 2025-10-13 16:45:10 -0400 (Mon, 13 Oct 2025) EllapsedTime: 44.4 seconds RetCode: 0 Status: OK