Package: methylInheritance Version: 1.32.1 Command: /Library/Frameworks/R.framework/Resources/bin/R CMD build --keep-empty-dirs --no-resave-data methylInheritance StartedAt: 2025-10-14 04:10:29 -0400 (Tue, 14 Oct 2025) EndedAt: 2025-10-14 04:12:12 -0400 (Tue, 14 Oct 2025) EllapsedTime: 103.5 seconds RetCode: 0 Status: OK PackageFile: methylInheritance_1.32.1.tar.gz PackageFileSize: 1.708 MiB