Package: methylInheritance Version: 1.32.1 Command: rm -rf methylInheritance.buildbin-libdir && mkdir methylInheritance.buildbin-libdir && /Users/biocbuild/BBS/utils/build-universal.sh methylInheritance_1.32.1.tar.gz /Library/Frameworks/R.framework/Resources/bin/R methylInheritance.buildbin-libdir StartedAt: 2025-10-11 20:59:36 -0400 (Sat, 11 Oct 2025) EndedAt: 2025-10-11 21:00:29 -0400 (Sat, 11 Oct 2025) EllapsedTime: 52.3 seconds RetCode: 0 Status: OK PackageFile: methylInheritance_1.32.1.tgz PackageFileSize: 1.826 MiB