Package: methylGSA Version: 1.25.0 Command: E:\biocbuild\bbs-3.21-bioc\R\bin\R.exe CMD check --no-multiarch --install=check:methylGSA.install-out.txt --library=E:\biocbuild\bbs-3.21-bioc\R\library --no-vignettes --timings methylGSA_1.25.0.tar.gz StartedAt: 2025-02-21 03:06:54 -0500 (Fri, 21 Feb 2025) EndedAt: 2025-02-21 03:14:09 -0500 (Fri, 21 Feb 2025) EllapsedTime: 434.7 seconds RetCode: 0 Status: OK CheckDir: methylGSA.Rcheck Warnings: 0