Package: methylGSA Version: 1.25.0 Command: /home/biocbuild/bbs-3.21-bioc/R/bin/R CMD check --install=check:methylGSA.install-out.txt --library=/home/biocbuild/bbs-3.21-bioc/R/site-library --timings methylGSA_1.25.0.tar.gz StartedAt: 2025-02-20 23:29:04 -0500 (Thu, 20 Feb 2025) EndedAt: 2025-02-20 23:36:21 -0500 (Thu, 20 Feb 2025) EllapsedTime: 436.5 seconds RetCode: 0 Status: OK CheckDir: methylGSA.Rcheck Warnings: 0