Package: methylGSA Version: 1.25.0 Command: /Library/Frameworks/R.framework/Resources/bin/R CMD build --keep-empty-dirs --no-resave-data methylGSA StartedAt: 2025-02-20 17:17:14 -0500 (Thu, 20 Feb 2025) EndedAt: 2025-02-20 17:19:06 -0500 (Thu, 20 Feb 2025) EllapsedTime: 111.8 seconds RetCode: 0 Status: OK PackageFile: methylGSA_1.25.0.tar.gz PackageFileSize: 3.151 MiB