Package: methylGSA Version: 1.25.0 Command: /home/biocbuild/R/R/bin/R CMD INSTALL methylGSA StartedAt: 2025-01-29 20:42:13 -0000 (Wed, 29 Jan 2025) EndedAt: 2025-01-29 20:43:16 -0000 (Wed, 29 Jan 2025) EllapsedTime: 63.1 seconds RetCode: 0 Status: OK