Package: methylGSA Version: 1.25.0 Command: /home/biocbuild/R/R/bin/R CMD check --install=check:methylGSA.install-out.txt --library=/home/biocbuild/R/R/site-library --no-vignettes --timings methylGSA_1.25.0.tar.gz StartedAt: 2025-01-28 12:19:28 -0000 (Tue, 28 Jan 2025) EndedAt: 2025-01-28 12:27:44 -0000 (Tue, 28 Jan 2025) EllapsedTime: 496.5 seconds RetCode: 0 Status: WARNINGS CheckDir: methylGSA.Rcheck Warnings: 5