Package: methylGSA Version: 1.25.0 Command: /Library/Frameworks/R.framework/Resources/bin/R CMD INSTALL methylGSA StartedAt: 2025-02-20 15:30:24 -0500 (Thu, 20 Feb 2025) EndedAt: 2025-02-20 15:30:41 -0500 (Thu, 20 Feb 2025) EllapsedTime: 16.7 seconds RetCode: 0 Status: OK