Package: methylCC Version: 1.21.0 Command: E:\biocbuild\bbs-3.21-bioc\R\bin\R.exe CMD INSTALL methylCC StartedAt: 2025-02-20 16:54:38 -0500 (Thu, 20 Feb 2025) EndedAt: 2025-02-20 16:55:42 -0500 (Thu, 20 Feb 2025) EllapsedTime: 63.5 seconds RetCode: 0 Status: OK