Package: methylCC Version: 1.21.0 Command: chmod a+r methylCC -R && E:\biocbuild\bbs-3.21-bioc\R\bin\R.exe CMD build --keep-empty-dirs --no-resave-data methylCC StartedAt: 2025-02-20 19:51:57 -0500 (Thu, 20 Feb 2025) EndedAt: 2025-02-20 19:56:43 -0500 (Thu, 20 Feb 2025) EllapsedTime: 285.2 seconds RetCode: 0 Status: OK PackageFile: methylCC_1.21.0.tar.gz PackageFileSize: 4.315 MiB