Package: methylCC Version: 1.21.0 Command: rm -rf methylCC.buildbin-libdir && mkdir methylCC.buildbin-libdir && E:\biocbuild\bbs-3.21-bioc\R\bin\R.exe CMD INSTALL --build --library=methylCC.buildbin-libdir methylCC_1.21.0.tar.gz StartedAt: 2025-02-21 08:30:43 -0500 (Fri, 21 Feb 2025) EndedAt: 2025-02-21 08:31:49 -0500 (Fri, 21 Feb 2025) EllapsedTime: 66.0 seconds RetCode: 0 Status: OK PackageFile: methylCC_1.21.0.zip PackageFileSize: 4.655 MiB