Package: methylCC Version: 1.21.0 Command: /home/biocbuild/bbs-3.21-bioc/R/bin/R CMD INSTALL methylCC StartedAt: 2025-02-20 16:00:14 -0500 (Thu, 20 Feb 2025) EndedAt: 2025-02-20 16:01:04 -0500 (Thu, 20 Feb 2025) EllapsedTime: 49.8 seconds RetCode: 0 Status: OK