Package: methylCC Version: 1.21.0 Command: /Library/Frameworks/R.framework/Resources/bin/R CMD INSTALL methylCC StartedAt: 2025-02-19 15:41:41 -0500 (Wed, 19 Feb 2025) EndedAt: 2025-02-19 15:42:49 -0500 (Wed, 19 Feb 2025) EllapsedTime: 68.0 seconds RetCode: 0 Status: OK