Package: methylCC Version: 1.21.0 Command: /Library/Frameworks/R.framework/Resources/bin/R CMD check --install=check:methylCC.install-out.txt --library=/Library/Frameworks/R.framework/Resources/library --no-vignettes --timings methylCC_1.21.0.tar.gz StartedAt: 2025-02-19 21:31:51 -0500 (Wed, 19 Feb 2025) EndedAt: 2025-02-19 21:39:55 -0500 (Wed, 19 Feb 2025) EllapsedTime: 484.3 seconds RetCode: 0 Status: OK CheckDir: methylCC.Rcheck Warnings: 0