Package: methylCC Version: 1.21.0 Command: rm -rf methylCC.buildbin-libdir && mkdir methylCC.buildbin-libdir && /Users/biocbuild/BBS/utils/build-universal.sh methylCC_1.21.0.tar.gz /Library/Frameworks/R.framework/Resources/bin/R methylCC.buildbin-libdir StartedAt: 2025-02-19 22:28:17 -0500 (Wed, 19 Feb 2025) EndedAt: 2025-02-19 22:28:39 -0500 (Wed, 19 Feb 2025) EllapsedTime: 22.4 seconds RetCode: 0 Status: OK PackageFile: methylCC_1.21.0.tgz PackageFileSize: 4.717 MiB