Package: methyLImp2 Version: 1.3.1 Command: /Library/Frameworks/R.framework/Resources/bin/R CMD check --install=check:methyLImp2.install-out.txt --library=/Library/Frameworks/R.framework/Resources/library --no-vignettes --timings methyLImp2_1.3.1.tar.gz StartedAt: 2025-02-19 20:09:28 -0500 (Wed, 19 Feb 2025) EndedAt: 2025-02-19 20:10:44 -0500 (Wed, 19 Feb 2025) EllapsedTime: 75.8 seconds RetCode: 0 Status: OK CheckDir: methyLImp2.Rcheck Warnings: 0