Package: methrix Version: 1.21.0 Command: chmod a+r methrix -R && E:\biocbuild\bbs-3.21-bioc\R\bin\R.exe CMD build --keep-empty-dirs --no-resave-data methrix StartedAt: 2025-02-19 19:49:44 -0500 (Wed, 19 Feb 2025) EndedAt: 2025-02-19 19:56:43 -0500 (Wed, 19 Feb 2025) EllapsedTime: 418.6 seconds RetCode: 0 Status: OK PackageFile: methrix_1.21.0.tar.gz PackageFileSize: 3.784 MiB