Package: methrix Version: 1.21.0 Command: /home/biocbuild/bbs-3.21-bioc/R/bin/R CMD INSTALL methrix StartedAt: 2025-02-19 15:34:53 -0500 (Wed, 19 Feb 2025) EndedAt: 2025-02-19 15:35:32 -0500 (Wed, 19 Feb 2025) EllapsedTime: 39.7 seconds RetCode: 0 Status: OK