Package: methimpute Version: 1.29.0 Command: /home/biocbuild/bbs-3.21-bioc/R/bin/R CMD build --keep-empty-dirs --no-resave-data methimpute StartedAt: 2025-02-19 18:00:36 -0500 (Wed, 19 Feb 2025) EndedAt: 2025-02-19 18:02:38 -0500 (Wed, 19 Feb 2025) EllapsedTime: 122.1 seconds RetCode: 0 Status: OK PackageFile: methimpute_1.29.0.tar.gz PackageFileSize: 1.268 MiB