Package: methimpute Version: 1.29.0 Command: /Library/Frameworks/R.framework/Resources/bin/R CMD check --install=check:methimpute.install-out.txt --library=/Library/Frameworks/R.framework/Resources/library --no-vignettes --timings methimpute_1.29.0.tar.gz StartedAt: 2025-02-20 21:30:07 -0500 (Thu, 20 Feb 2025) EndedAt: 2025-02-20 21:32:46 -0500 (Thu, 20 Feb 2025) EllapsedTime: 159.1 seconds RetCode: 0 Status: WARNINGS CheckDir: methimpute.Rcheck Warnings: 1