Package: methimpute Version: 1.29.0 Command: /Library/Frameworks/R.framework/Resources/bin/R CMD build --keep-empty-dirs --no-resave-data methimpute StartedAt: 2025-02-20 17:16:21 -0500 (Thu, 20 Feb 2025) EndedAt: 2025-02-20 17:18:34 -0500 (Thu, 20 Feb 2025) EllapsedTime: 132.4 seconds RetCode: 0 Status: OK PackageFile: methimpute_1.29.0.tar.gz PackageFileSize: 1.268 MiB