Package: methimpute Version: 1.29.0 Command: /Library/Frameworks/R.framework/Resources/bin/R CMD check --install=check:methimpute.install-out.txt --library=/Library/Frameworks/R.framework/Resources/library --no-vignettes --timings methimpute_1.29.0.tar.gz StartedAt: 2025-02-20 20:05:20 -0500 (Thu, 20 Feb 2025) EndedAt: 2025-02-20 20:06:16 -0500 (Thu, 20 Feb 2025) EllapsedTime: 55.6 seconds RetCode: 0 Status: WARNINGS CheckDir: methimpute.Rcheck Warnings: 1