Package: methInheritSim Version: 1.29.0 Command: /home/biocbuild/bbs-3.21-bioc/R/bin/R CMD INSTALL methInheritSim StartedAt: 2025-02-18 15:26:42 -0500 (Tue, 18 Feb 2025) EndedAt: 2025-02-18 15:27:18 -0500 (Tue, 18 Feb 2025) EllapsedTime: 35.9 seconds RetCode: 0 Status: OK