Package: methInheritSim Version: 1.29.0 Command: /Library/Frameworks/R.framework/Resources/bin/R CMD INSTALL methInheritSim StartedAt: 2025-02-18 15:32:48 -0500 (Tue, 18 Feb 2025) EndedAt: 2025-02-18 15:33:37 -0500 (Tue, 18 Feb 2025) EllapsedTime: 48.6 seconds RetCode: 0 Status: OK