Package: metaseqR2 Version: 1.19.0 Command: rm -rf metaseqR2.buildbin-libdir && mkdir metaseqR2.buildbin-libdir && E:\biocbuild\bbs-3.21-bioc\R\bin\R.exe CMD INSTALL --build --library=metaseqR2.buildbin-libdir metaseqR2_1.19.0.tar.gz StartedAt: 2025-02-21 08:30:11 -0500 (Fri, 21 Feb 2025) EndedAt: 2025-02-21 08:32:27 -0500 (Fri, 21 Feb 2025) EllapsedTime: 135.2 seconds RetCode: 0 Status: OK PackageFile: metaseqR2_1.19.0.zip PackageFileSize: 4.501 MiB