Package: metaseqR2 Version: 1.19.0 Command: /home/biocbuild/bbs-3.21-bioc/R/bin/R CMD INSTALL metaseqR2 StartedAt: 2025-02-20 16:05:11 -0500 (Thu, 20 Feb 2025) EndedAt: 2025-02-20 16:06:22 -0500 (Thu, 20 Feb 2025) EllapsedTime: 70.8 seconds RetCode: 0 Status: OK