Package: metaseqR2 Version: 1.19.0 Command: /home/biocbuild/bbs-3.21-bioc/R/bin/R CMD build --keep-empty-dirs --no-resave-data metaseqR2 StartedAt: 2025-02-20 18:07:54 -0500 (Thu, 20 Feb 2025) EndedAt: 2025-02-20 18:14:43 -0500 (Thu, 20 Feb 2025) EllapsedTime: 409.5 seconds RetCode: 0 Status: OK PackageFile: metaseqR2_1.19.0.tar.gz PackageFileSize: 2.656 MiB