Package: metaseqR2 Version: 1.19.0 Command: /Library/Frameworks/R.framework/Resources/bin/R CMD INSTALL metaseqR2 StartedAt: 2025-02-20 15:43:54 -0500 (Thu, 20 Feb 2025) EndedAt: 2025-02-20 15:45:24 -0500 (Thu, 20 Feb 2025) EllapsedTime: 89.8 seconds RetCode: 0 Status: OK