Package: metaseqR2 Version: 1.19.0 Command: rm -rf metaseqR2.buildbin-libdir && mkdir metaseqR2.buildbin-libdir && /Users/biocbuild/BBS/utils/build-universal.sh metaseqR2_1.19.0.tar.gz /Library/Frameworks/R.framework/Resources/bin/R metaseqR2.buildbin-libdir StartedAt: 2025-02-21 00:39:10 -0500 (Fri, 21 Feb 2025) EndedAt: 2025-02-21 00:40:57 -0500 (Fri, 21 Feb 2025) EllapsedTime: 106.5 seconds RetCode: 0 Status: OK PackageFile: metaseqR2_1.19.0.tgz PackageFileSize: 4.492 MiB