Package: metapod Version: 1.15.0 Command: E:\biocbuild\bbs-3.21-bioc\R\bin\R.exe CMD INSTALL metapod StartedAt: 2025-02-20 15:18:45 -0500 (Thu, 20 Feb 2025) EndedAt: 2025-02-20 15:19:48 -0500 (Thu, 20 Feb 2025) EllapsedTime: 62.4 seconds RetCode: 0 Status: OK