Package: metapod Version: 1.15.0 Command: /Library/Frameworks/R.framework/Resources/bin/R CMD INSTALL metapod StartedAt: 2025-02-20 15:04:03 -0500 (Thu, 20 Feb 2025) EndedAt: 2025-02-20 15:04:41 -0500 (Thu, 20 Feb 2025) EllapsedTime: 37.6 seconds RetCode: 0 Status: OK