Package: metapod Version: 1.15.0 Command: rm -rf metapod.buildbin-libdir && mkdir metapod.buildbin-libdir && /Users/biocbuild/BBS/utils/build-universal.sh metapod_1.15.0.tar.gz /Library/Frameworks/R.framework/Resources/bin/R metapod.buildbin-libdir StartedAt: 2025-02-21 00:39:08 -0500 (Fri, 21 Feb 2025) EndedAt: 2025-02-21 00:39:37 -0500 (Fri, 21 Feb 2025) EllapsedTime: 29.1 seconds RetCode: 0 Status: OK PackageFile: metapod_1.15.0.tgz PackageFileSize: 491.8 KiB