Package: metapod Version: 1.15.0 Command: rm -rf metapod.buildbin-libdir && mkdir metapod.buildbin-libdir && /Users/biocbuild/BBS/utils/build-universal.sh metapod_1.15.0.tar.gz /Library/Frameworks/R.framework/Resources/bin/R metapod.buildbin-libdir StartedAt: 2025-02-19 22:28:06 -0500 (Wed, 19 Feb 2025) EndedAt: 2025-02-19 22:28:15 -0500 (Wed, 19 Feb 2025) EllapsedTime: 8.2 seconds RetCode: 0 Status: OK PackageFile: metapod_1.15.0.tgz PackageFileSize: 492.6 KiB