Package: metahdep Version: 1.65.0 Command: E:\biocbuild\bbs-3.21-bioc\R\bin\R.exe CMD INSTALL metahdep StartedAt: 2025-02-20 15:16:58 -0500 (Thu, 20 Feb 2025) EndedAt: 2025-02-20 15:17:12 -0500 (Thu, 20 Feb 2025) EllapsedTime: 13.4 seconds RetCode: 0 Status: OK