Package: metahdep Version: 1.65.0 Command: /home/biocbuild/bbs-3.21-bioc/R/bin/R CMD INSTALL metahdep StartedAt: 2025-02-20 15:01:46 -0500 (Thu, 20 Feb 2025) EndedAt: 2025-02-20 15:01:50 -0500 (Thu, 20 Feb 2025) EllapsedTime: 3.6 seconds RetCode: 0 Status: OK