Package: metahdep Version: 1.65.0 Command: /home/biocbuild/bbs-3.21-bioc/R/bin/R CMD build --keep-empty-dirs --no-resave-data metahdep StartedAt: 2025-02-20 18:07:11 -0500 (Thu, 20 Feb 2025) EndedAt: 2025-02-20 18:07:18 -0500 (Thu, 20 Feb 2025) EllapsedTime: 7.0 seconds RetCode: 0 Status: OK PackageFile: metahdep_1.65.0.tar.gz PackageFileSize: 551.2 KiB