Package: metabomxtr Version: 1.41.0 Command: chmod a+r metabomxtr -R && E:\biocbuild\bbs-3.21-bioc\R\bin\R.exe CMD build --keep-empty-dirs --no-resave-data metabomxtr StartedAt: 2025-02-20 19:49:16 -0500 (Thu, 20 Feb 2025) EndedAt: 2025-02-20 19:50:37 -0500 (Thu, 20 Feb 2025) EllapsedTime: 80.7 seconds RetCode: 0 Status: OK PackageFile: metabomxtr_1.41.0.tar.gz PackageFileSize: 340.6 KiB