Package: metabomxtr Version: 1.41.0 Command: rm -rf metabomxtr.buildbin-libdir && mkdir metabomxtr.buildbin-libdir && E:\biocbuild\bbs-3.21-bioc\R\bin\R.exe CMD INSTALL --build --library=metabomxtr.buildbin-libdir metabomxtr_1.41.0.tar.gz StartedAt: 2025-02-21 08:29:45 -0500 (Fri, 21 Feb 2025) EndedAt: 2025-02-21 08:30:05 -0500 (Fri, 21 Feb 2025) EllapsedTime: 20.4 seconds RetCode: 0 Status: OK PackageFile: metabomxtr_1.41.0.zip PackageFileSize: 435 KiB