Package: metabomxtr Version: 1.41.0 Command: /home/biocbuild/bbs-3.21-bioc/R/bin/R CMD INSTALL metabomxtr StartedAt: 2025-02-20 15:21:11 -0500 (Thu, 20 Feb 2025) EndedAt: 2025-02-20 15:21:19 -0500 (Thu, 20 Feb 2025) EllapsedTime: 8.7 seconds RetCode: 0 Status: OK