Package: metabomxtr Version: 1.41.0 Command: /home/biocbuild/bbs-3.21-bioc/R/bin/R CMD check --install=check:metabomxtr.install-out.txt --library=/home/biocbuild/bbs-3.21-bioc/R/site-library --timings metabomxtr_1.41.0.tar.gz StartedAt: 2025-02-20 23:25:27 -0500 (Thu, 20 Feb 2025) EndedAt: 2025-02-20 23:26:59 -0500 (Thu, 20 Feb 2025) EllapsedTime: 92.2 seconds RetCode: 0 Status: OK CheckDir: metabomxtr.Rcheck Warnings: 0