Package: metabomxtr Version: 1.41.0 Command: /home/biocbuild/bbs-3.21-bioc/R/bin/R CMD build --keep-empty-dirs --no-resave-data metabomxtr StartedAt: 2025-02-20 18:06:40 -0500 (Thu, 20 Feb 2025) EndedAt: 2025-02-20 18:07:07 -0500 (Thu, 20 Feb 2025) EllapsedTime: 27.0 seconds RetCode: 0 Status: OK PackageFile: metabomxtr_1.41.0.tar.gz PackageFileSize: 561 KiB