Package: metabomxtr Version: 1.41.0 Command: /home/biocbuild/R/R/bin/R CMD check --install=check:metabomxtr.install-out.txt --library=/home/biocbuild/R/R/site-library --no-vignettes --timings metabomxtr_1.41.0.tar.gz StartedAt: 2025-01-28 12:13:38 -0000 (Tue, 28 Jan 2025) EndedAt: 2025-01-28 12:15:08 -0000 (Tue, 28 Jan 2025) EllapsedTime: 90.1 seconds RetCode: 0 Status: OK CheckDir: metabomxtr.Rcheck Warnings: 0