Package: metabomxtr Version: 1.41.0 Command: /Library/Frameworks/R.framework/Resources/bin/R CMD check --install=check:metabomxtr.install-out.txt --library=/Library/Frameworks/R.framework/Resources/library --no-vignettes --timings metabomxtr_1.41.0.tar.gz StartedAt: 2025-02-20 20:03:58 -0500 (Thu, 20 Feb 2025) EndedAt: 2025-02-20 20:04:30 -0500 (Thu, 20 Feb 2025) EllapsedTime: 31.5 seconds RetCode: 0 Status: OK CheckDir: metabomxtr.Rcheck Warnings: 0