Package: metabomxtr Version: 1.41.0 Command: rm -rf metabomxtr.buildbin-libdir && mkdir metabomxtr.buildbin-libdir && /Users/biocbuild/BBS/utils/build-universal.sh metabomxtr_1.41.0.tar.gz /Library/Frameworks/R.framework/Resources/bin/R metabomxtr.buildbin-libdir StartedAt: 2025-02-20 22:24:54 -0500 (Thu, 20 Feb 2025) EndedAt: 2025-02-20 22:24:59 -0500 (Thu, 20 Feb 2025) EllapsedTime: 5.1 seconds RetCode: 0 Status: OK PackageFile: metabomxtr_1.41.0.tgz PackageFileSize: 651.3 KiB