Package: metabolomicsWorkbenchR Version: 1.17.0 Command: E:\biocbuild\bbs-3.21-bioc\R\bin\R.exe CMD INSTALL metabolomicsWorkbenchR StartedAt: 2025-02-20 16:14:53 -0500 (Thu, 20 Feb 2025) EndedAt: 2025-02-20 16:17:45 -0500 (Thu, 20 Feb 2025) EllapsedTime: 172.1 seconds RetCode: 0 Status: OK